BEGIN:VCALENDAR
VERSION:2.0
PRODID:-//Stonethrowers.com - ECPv6.15.10//NONSGML v1.0//EN
CALSCALE:GREGORIAN
METHOD:PUBLISH
X-WR-CALNAME:Stonethrowers.com
X-ORIGINAL-URL:https://stonethrowers.com
X-WR-CALDESC:Events for Stonethrowers.com
REFRESH-INTERVAL;VALUE=DURATION:PT1H
X-Robots-Tag:noindex
X-PUBLISHED-TTL:PT1H
BEGIN:VTIMEZONE
TZID:America/Chicago
BEGIN:DAYLIGHT
TZOFFSETFROM:-0600
TZOFFSETTO:-0500
TZNAME:CDT
DTSTART:20190310T080000
END:DAYLIGHT
BEGIN:STANDARD
TZOFFSETFROM:-0500
TZOFFSETTO:-0600
TZNAME:CST
DTSTART:20191103T070000
END:STANDARD
BEGIN:DAYLIGHT
TZOFFSETFROM:-0600
TZOFFSETTO:-0500
TZNAME:CDT
DTSTART:20200308T080000
END:DAYLIGHT
BEGIN:STANDARD
TZOFFSETFROM:-0500
TZOFFSETTO:-0600
TZNAME:CST
DTSTART:20201101T070000
END:STANDARD
BEGIN:DAYLIGHT
TZOFFSETFROM:-0600
TZOFFSETTO:-0500
TZNAME:CDT
DTSTART:20210314T080000
END:DAYLIGHT
BEGIN:STANDARD
TZOFFSETFROM:-0500
TZOFFSETTO:-0600
TZNAME:CST
DTSTART:20211107T070000
END:STANDARD
END:VTIMEZONE
BEGIN:VEVENT
DTSTART;TZID=America/Chicago:20200425T090000
DTEND;TZID=America/Chicago:20200425T130000
DTSTAMP:20260423T133227
CREATED:20190110T235340Z
LAST-MODIFIED:20200316T033939Z
UID:4526-1587805200-1587819600@stonethrowers.com
SUMMARY:Next Level Training: Austin\, TX
DESCRIPTION:Unlock miracles\, breakthrough\, and healing through your worship and prayer!\nWhen you live a life of worship that creates a dwelling place for Holy Spirit\, and when your prayer life is bulls-eye focused\, your walk with the Lord will take on a totally different stride! This training will help you get to your next level as you gain a new understanding of your position in God’s Kingdom\, the authority which you have been given\, and how to tap into it so that you can experience a life of abundance! \nSandi and Marla have worked with worship and prayer teams across the country\, teaching practical applications of the importance and power of worship and prayer\, and now they want to make these same workshops available to YOU! \n\nThe schedule is simple and the content will be rich:\n\n9:00am – Arrival and check-in\n9:30am – Priestly Worship\n10:45am – Bulls-eye Prayer\n12:00pm – Practical Application and Personal Ministry Time\n\n\nImportant Information:\n\nSPACE IS LIMITED\n\nPurchase your tickets below.
URL:https://stonethrowers.com/event/nlt-austin/
LOCATION:La Quinta Inn & Suites\, Cedar Park\, 1010 E Whitestone Blvd\, Cedar Park\, TX\, 78613\, United States
CATEGORIES:Next Level Training
ATTACH;FMTTYPE=image/jpeg:https://stonethrowers.com/wp-content/uploads/2018/10/gianna-trewavas-740067-unsplash-copy.jpg
ORGANIZER;CN="Stonethrowers":MAILTO:info@stonethrowers.com
END:VEVENT
END:VCALENDAR